BEGIN:VCALENDAR
VERSION:2.0
PRODID:-//Hidden Remnant - ECPv6.15.20//NONSGML v1.0//EN
CALSCALE:GREGORIAN
METHOD:PUBLISH
X-ORIGINAL-URL:https://hiddenremnant.org
X-WR-CALDESC:Events for Hidden Remnant
REFRESH-INTERVAL;VALUE=DURATION:PT1H
X-Robots-Tag:noindex
X-PUBLISHED-TTL:PT1H
BEGIN:VTIMEZONE
TZID:America/New_York
BEGIN:DAYLIGHT
TZOFFSETFROM:-0500
TZOFFSETTO:-0400
TZNAME:EDT
DTSTART:20200308T070000
END:DAYLIGHT
BEGIN:STANDARD
TZOFFSETFROM:-0400
TZOFFSETTO:-0500
TZNAME:EST
DTSTART:20201101T060000
END:STANDARD
BEGIN:DAYLIGHT
TZOFFSETFROM:-0500
TZOFFSETTO:-0400
TZNAME:EDT
DTSTART:20210314T070000
END:DAYLIGHT
BEGIN:STANDARD
TZOFFSETFROM:-0400
TZOFFSETTO:-0500
TZNAME:EST
DTSTART:20211107T060000
END:STANDARD
BEGIN:DAYLIGHT
TZOFFSETFROM:-0500
TZOFFSETTO:-0400
TZNAME:EDT
DTSTART:20220313T070000
END:DAYLIGHT
BEGIN:STANDARD
TZOFFSETFROM:-0400
TZOFFSETTO:-0500
TZNAME:EST
DTSTART:20221106T060000
END:STANDARD
BEGIN:DAYLIGHT
TZOFFSETFROM:-0500
TZOFFSETTO:-0400
TZNAME:EDT
DTSTART:20230312T070000
END:DAYLIGHT
BEGIN:STANDARD
TZOFFSETFROM:-0400
TZOFFSETTO:-0500
TZNAME:EST
DTSTART:20231105T060000
END:STANDARD
BEGIN:DAYLIGHT
TZOFFSETFROM:-0500
TZOFFSETTO:-0400
TZNAME:EDT
DTSTART:20240310T070000
END:DAYLIGHT
BEGIN:STANDARD
TZOFFSETFROM:-0400
TZOFFSETTO:-0500
TZNAME:EST
DTSTART:20241103T060000
END:STANDARD
END:VTIMEZONE
BEGIN:VTIMEZONE
TZID:UTC
BEGIN:STANDARD
TZOFFSETFROM:+0000
TZOFFSETTO:+0000
TZNAME:UTC
DTSTART:20200101T000000
END:STANDARD
END:VTIMEZONE
BEGIN:VEVENT
DTSTART;TZID=America/New_York:20230415T140000
DTEND;TZID=America/New_York:20230415T180000
DTSTAMP:20260423T150500
CREATED:20230412T023344Z
LAST-MODIFIED:20230412T033351Z
UID:8845-1681567200-1681581600@hiddenremnant.org
SUMMARY:“Pre-Burn” Prophetic Prayer & Praise - with MorningStar Team
DESCRIPTION:Blaze with Team members from the Bob Jones Vision Center\, MorningStar’s prayer room in Fort Mill SC\, to get a little taste of heaven on earth to “Burn” in worship with a “Pre-Burn” of non-stop prophetic prayer & praise and worship leading up to the evening service.
URL:https://hiddenremnant.org/event/pre-burn-prophetic-prayer-praise-2/
LOCATION:Location:\, 237 Clearwater Lake Rd\, Camden\, SC\, 29020\, United States
END:VEVENT
BEGIN:VEVENT
DTSTART;TZID=America/New_York:20230414T220000
DTEND;TZID=America/New_York:20230415T020000
DTSTAMP:20260423T150500
CREATED:20230408T125920Z
LAST-MODIFIED:20230412T033600Z
UID:8823-1681509600-1681524000@hiddenremnant.org
SUMMARY:After-Burn Praise\, Prayer\, & Prophecy - with Team members from the Bob Jones Vision Center
DESCRIPTION:Join Teams from the Bob Jones Vision Center\, MorningStar’s prayer room in Fort Mill SC\, for an After-Burn Praise\, Prayer\, and Prophetic Worship time. This time along with the Pre-Burn time and the Night service with Bonnie Chavda will be 12 hrs of perpetual praise\, prayer\, preaching\, and prophecy!
URL:https://hiddenremnant.org/event/all-night-praise-prayer-meeting/
LOCATION:Location:\, 237 Clearwater Lake Rd\, Camden\, SC\, 29020\, United States
CATEGORIES:Prayer/Worship
END:VEVENT
BEGIN:VEVENT
DTSTART;TZID=America/New_York:20230414T190000
DTEND;TZID=America/New_York:20230414T220000
DTSTAMP:20260423T150500
CREATED:20230209T012324Z
LAST-MODIFIED:20230412T031937Z
UID:8767-1681498800-1681509600@hiddenremnant.org
SUMMARY:Evening Service with Pastor Bonnie Chavda
DESCRIPTION:Guest Speaker – Pastor Bonnie Chavda.\nA gifted author and dynamic teacher\, Bonnie brings revelation and release to thousands through her exciting and often dramatic exposition of the Word. Her intense love of Jesus and her fearless\, forthright\, pioneer spirit mix will make her an unforgettable speaker.\n 
URL:https://hiddenremnant.org/event/prepare-the-way-2023/
LOCATION:Location:\, 237 Clearwater Lake Rd\, Camden\, SC\, 29020\, United States
CATEGORIES:Outreach,Special Event
END:VEVENT
BEGIN:VEVENT
DTSTART;TZID=America/New_York:20230414T140000
DTEND;TZID=America/New_York:20230414T190000
DTSTAMP:20260423T150500
CREATED:20230412T021805Z
LAST-MODIFIED:20230412T033523Z
UID:8838-1681480800-1681498800@hiddenremnant.org
SUMMARY:"Pre-Burn” Prophetic Prayer & Praise - with Team members from the Bob Jones Vision Center
DESCRIPTION:Blaze with Team members from the Bob Jones Vision Center\, MorningStar’s prayer room in Fort Mill SC\, to get a little taste of heaven on earth to “Burn” in worship with a “Pre-Burn” of non-stop prophetic prayer & praise and worship leading up to the evening service.
URL:https://hiddenremnant.org/event/pre-burn-prophetic-prayer-praise/
LOCATION:Location:\, 237 Clearwater Lake Rd\, Camden\, SC\, 29020\, United States
END:VEVENT
BEGIN:VEVENT
DTSTART;VALUE=DATE:20230414
DTEND;VALUE=DATE:20230416
DTSTAMP:20260423T150500
CREATED:20230412T030249Z
LAST-MODIFIED:20230412T112833Z
UID:8856-1681430400-1681603199@hiddenremnant.org
SUMMARY:Prepare the Way Event - Two Days each of 12 hrs of perpetual Praise\, Prayer\, Preaching\, and Prophecy!    See detailed schedule below:
DESCRIPTION:Around the Throne of God there is a perpetual flame of Praise and Worship. We are praying “On earth as it is in heaven”. Blaze with us\, as we get a little taste of heaven on earth with 12 hours each day of non-stop praise\, prayer\, preaching\, and prophecy in the Prepare the Way Tent.
URL:https://hiddenremnant.org/event/prepare-the-way-12-hrs-of-perpetual-praise-prayer-preaching-and-prophecy/
LOCATION:Location:\, 237 Clearwater Lake Rd\, Camden\, SC\, 29020\, United States
ATTACH;FMTTYPE=image/jpeg:https://hiddenremnant.org/wp-content/uploads/2023/04/Prepare-the-way-logo-3-e1681298888533.jpg
END:VEVENT
BEGIN:VEVENT
DTSTART;TZID=America/New_York:20230319T170000
DTEND;TZID=America/New_York:20230319T170000
DTSTAMP:20260423T150500
CREATED:20230324T013645Z
LAST-MODIFIED:20230324T013920Z
UID:8812-1679245200-1679245200@hiddenremnant.org
SUMMARY:Unity Event
DESCRIPTION:
URL:https://hiddenremnant.org/event/unity-event/
LOCATION:Location:\, 237 Clearwater Lake Rd\, Camden\, SC\, 29020\, United States
END:VEVENT
BEGIN:VEVENT
DTSTART;TZID=America/New_York:20221002T100000
DTEND;TZID=America/New_York:20221002T130000
DTSTAMP:20260423T150500
CREATED:20220810T142513Z
LAST-MODIFIED:20220928T162121Z
UID:8698-1664704800-1664715600@hiddenremnant.org
SUMMARY:Tent Gathering 2022
DESCRIPTION:Come enjoy worship\, speakers and prayer ministers will be available during and after service.\nBring water to stay hydrated!
URL:https://hiddenremnant.org/event/tent-gathering-2022-3/
LOCATION:Location:\, 237 Clearwater Lake Rd\, Camden\, SC\, 29020\, United States
CATEGORIES:Outreach,Special Event
ATTACH;FMTTYPE=image/jpeg:https://hiddenremnant.org/wp-content/uploads/2022/08/TentGathering_FB_eventCover.jpg
ORGANIZER;CN="Marney L. Wooldridge":MAILTO:marneylwooldridge@yahoo.com
END:VEVENT
BEGIN:VEVENT
DTSTART;TZID=America/New_York:20221001T180000
DTEND;TZID=America/New_York:20221001T210000
DTSTAMP:20260423T150500
CREATED:20220810T142352Z
LAST-MODIFIED:20220928T162054Z
UID:8696-1664647200-1664658000@hiddenremnant.org
SUMMARY:Tent Gathering 2022
DESCRIPTION:Come enjoy live worship with Dionne Hough\, speakers and prayer ministers will be available during and after service.\nBring water to stay hydrated!
URL:https://hiddenremnant.org/event/tent-gathering-2022-2/
LOCATION:Location:\, 237 Clearwater Lake Rd\, Camden\, SC\, 29020\, United States
CATEGORIES:Outreach,Special Event
ATTACH;FMTTYPE=image/jpeg:https://hiddenremnant.org/wp-content/uploads/2022/08/TentGathering_FB_eventCover.jpg
ORGANIZER;CN="Marney L. Wooldridge":MAILTO:marneylwooldridge@yahoo.com
END:VEVENT
BEGIN:VEVENT
DTSTART;TZID=America/New_York:20220930T190000
DTEND;TZID=America/New_York:20220930T220000
DTSTAMP:20260423T150500
CREATED:20220810T142304Z
LAST-MODIFIED:20220928T162026Z
UID:8693-1664564400-1664575200@hiddenremnant.org
SUMMARY:Tent Gathering 2022
DESCRIPTION:Come enjoy live worship with Dionne Hough\, speakers and prayer ministers will be available during and after service.\nBring water to stay hydrated!
URL:https://hiddenremnant.org/event/tent-gathering-2022/
LOCATION:Location:\, 237 Clearwater Lake Rd\, Camden\, SC\, 29020\, United States
CATEGORIES:Outreach,Special Event
ATTACH;FMTTYPE=image/jpeg:https://hiddenremnant.org/wp-content/uploads/2022/08/TentGathering_FB_eventCover.jpg
ORGANIZER;CN="Marney L. Wooldridge":MAILTO:marneylwooldridge@yahoo.com
END:VEVENT
BEGIN:VEVENT
DTSTART;TZID=UTC:20220424T100000
DTEND;TZID=UTC:20220424T130000
DTSTAMP:20260423T150500
CREATED:20220217T070829Z
LAST-MODIFIED:20220228T234101Z
UID:8402-1650794400-1650805200@hiddenremnant.org
SUMMARY:The Harvest
DESCRIPTION:[vc_row][vc_column][vc_column_text] \nTHE HARVEST\nOpen your eyes\, and look at the fields\, because they are ready for harvest. —John 4:35 \nApril 21 & 22 @ 7:00PM\nApril 23 @ 6:00PM\nApril 24 @ 10:00AM\n237 Clearwater Lake Rd Camden\, SC 29020\n\nSpeakers & Live Worship each service\nDance Ministry with A Warrior’s Stance\nWater Baptism Saturday & Sunday (after service)\n\nFREE ADMISSION\n[/vc_column_text][/vc_column][/vc_row]
URL:https://hiddenremnant.org/event/the-harvest-4/
LOCATION:Location:\, 237 Clearwater Lake Rd\, Camden\, SC\, 29020\, United States
CATEGORIES:Outreach,Special Event
ATTACH;FMTTYPE=image/jpeg:https://hiddenremnant.org/wp-content/uploads/2022/02/TheHarvestWeb2.jpg
ORGANIZER;CN="Marney L. Wooldridge":MAILTO:marneylwooldridge@yahoo.com
END:VEVENT
BEGIN:VEVENT
DTSTART;TZID=UTC:20220423T180000
DTEND;TZID=UTC:20220423T210000
DTSTAMP:20260423T150500
CREATED:20220217T070724Z
LAST-MODIFIED:20220228T234029Z
UID:8400-1650736800-1650747600@hiddenremnant.org
SUMMARY:The Harvest
DESCRIPTION:[vc_row][vc_column][vc_column_text] \nTHE HARVEST\nOpen your eyes\, and look at the fields\, because they are ready for harvest. —John 4:35 \nApril 21 & 22 @ 7:00PM\nApril 23 @ 6:00PM\nApril 24 @ 10:00AM\n237 Clearwater Lake Rd Camden\, SC 29020\n\nSpeakers & Live Worship each service\nDance Ministry with A Warrior’s Stance\nWater Baptism Saturday & Sunday (after service)\n\nFREE ADMISSION\n[/vc_column_text][/vc_column][/vc_row]
URL:https://hiddenremnant.org/event/the-harvest-3/
LOCATION:Location:\, 237 Clearwater Lake Rd\, Camden\, SC\, 29020\, United States
CATEGORIES:Outreach,Special Event
ATTACH;FMTTYPE=image/jpeg:https://hiddenremnant.org/wp-content/uploads/2022/02/TheHarvestWeb2.jpg
ORGANIZER;CN="Marney L. Wooldridge":MAILTO:marneylwooldridge@yahoo.com
END:VEVENT
BEGIN:VEVENT
DTSTART;TZID=UTC:20220422T190000
DTEND;TZID=UTC:20220422T220000
DTSTAMP:20260423T150500
CREATED:20220217T070637Z
LAST-MODIFIED:20220217T074811Z
UID:8398-1650654000-1650664800@hiddenremnant.org
SUMMARY:The Harvest
DESCRIPTION:[vc_row][vc_column][vc_column_text] \nTHE HARVEST\nOpen your eyes\, and look at the fields\, because they are ready for harvest. —John 4:35 \nApril 21 & 22 @ 7:00PM\nApril 23 @ 6:00PM\nApril 24 @ 10:00AM\n\nSpeakers & Live Worship each service\nDance Ministry with A Warrior’s Stance\nWater Baptism Saturday & Sunday (after service)\n\nFREE ADMISSION\nlocation:\n237 Clearwater Lake Rd Camden\, SC 29020[/vc_column_text][/vc_column][/vc_row]
URL:https://hiddenremnant.org/event/the-harvest-2/
LOCATION:Location:\, 237 Clearwater Lake Rd\, Camden\, SC\, 29020\, United States
CATEGORIES:Outreach,Special Event
ATTACH;FMTTYPE=image/jpeg:https://hiddenremnant.org/wp-content/uploads/2022/02/TheHarvestWeb2.jpg
ORGANIZER;CN="Marney L. Wooldridge":MAILTO:marneylwooldridge@yahoo.com
END:VEVENT
BEGIN:VEVENT
DTSTART;TZID=UTC:20220421T190000
DTEND;TZID=UTC:20220421T220000
DTSTAMP:20260423T150500
CREATED:20220217T070538Z
LAST-MODIFIED:20220228T232936Z
UID:8396-1650567600-1650578400@hiddenremnant.org
SUMMARY:The Harvest
DESCRIPTION:[vc_row][vc_column][vc_column_text] \nTHE HARVEST\nOpen your eyes\, and look at the fields\, because they are ready for harvest. —John 4:35 \nApril 21 & 22 @ 7:00PM\nApril 23 @ 6:00PM\nApril 24 @ 10:00AM\n237 Clearwater Lake Rd Camden\, SC 29020\n\nSpeakers & Live Worship each service\nDance Ministry with A Warrior’s Stance\nWater Baptism Saturday & Sunday (after service)\n\nFREE ADMISSION\n[/vc_column_text][/vc_column][/vc_row]
URL:https://hiddenremnant.org/event/the-harvest/
LOCATION:Location:\, 237 Clearwater Lake Rd\, Camden\, SC\, 29020\, United States
CATEGORIES:Outreach,Special Event
ATTACH;FMTTYPE=image/jpeg:https://hiddenremnant.org/wp-content/uploads/2022/02/TheHarvestWeb2.jpg
ORGANIZER;CN="Marney L. Wooldridge":MAILTO:marneylwooldridge@yahoo.com
END:VEVENT
BEGIN:VEVENT
DTSTART;TZID=UTC:20211106T180000
DTEND;TZID=UTC:20211106T220000
DTSTAMP:20260423T150500
CREATED:20211101T005638Z
LAST-MODIFIED:20211102T031804Z
UID:8218-1636221600-1636236000@hiddenremnant.org
SUMMARY:Tent Revival
DESCRIPTION:[vc_row][vc_column]2021[vc_custom_heading text=”Healing Tent Revival” font_container=”tag:h2|text_align:left|color:%232c358d” use_theme_fonts=”yes” css_animation=”fadeInDown”][vc_column_text] \nNovember 4\, 5 & 6 – 6PM Nightly\nThree Nights of the presence and glory of Jesus Christ–come expecting!\n[/vc_column_text][vc_column_text] \nPreacher: Ella Onakoya | Evangelist & Prophetic Watchman\nWorship Minister: Rev. Dionne Hough\nDance Minister: Marney L Wooldridge  |  Leading A Warrior Stance\, (AWS)\n\nFor more info contact\, Deeda Coffey:\n704-996-0232  /  miracleinc@aol.com\n[/vc_column_text]	\n		\n								\n							\n								\n								Facebook\n							\n						\n				\n	\n[/vc_column][/vc_row][vc_row][vc_column width=”1/3″]\n	\n				\n					\n		\n					\n			\n		\n				Evangelist & Prophetic Watchman\n				Ella Onakoya\n	\n	\n[vc_column_text]Ella Onakoya is the founder of Harvest of the Nations. She is an international speaker\, a revivalist and a Prophetic Watchman. Her ministry is followed with powerful moves of the Holy Spirit with healings\, salvations\, signs and wonders. For further information about her ministry please visit www.harvestofthenations.com[/vc_column_text][/vc_column][vc_column width=”1/3″]\n	\n				\n					\n		\n					\n			\n		\n				Worship Leader\n				Dionne Hough\n	\n	\n[vc_column_text]Dionne Hough is Minister of Music and an associate pastor at Sweet Home Baptist Church in Camden\, SC. She is also the president and a founding member of the nonprofit organization\, Christian Musicians’ Guild\, Inc. whose mission is to “glorify God and unite the community through music.”[/vc_column_text][/vc_column][vc_column width=”1/3″]\n	\n				\n					\n		\n					\n			\n		\n				Dance Ministry\n				Marney L Wooldridge\n	\n	\n[vc_column_text]Marney L. Wooldridge has been called by God into Kingdom leadershipwhile operating in the office of Prophet\, Pastor\, and Teacher in the spiritual realm. She is the founder and CEO of A Warrior’s Stance (AWS)\, a Christian community outreach troupe and is the leader of Hidden Remnant.[/vc_column_text][/vc_column][/vc_row]
URL:https://hiddenremnant.org/event/healing-tent-revival-3/
LOCATION:THE FIELD @ MCISAAC FARM\, Horton Rollins Road • (The FIELD between 1662 & 1544)\, Kershaw\, SC\, United States
CATEGORIES:Special Event
ATTACH;FMTTYPE=image/jpeg:https://hiddenremnant.org/wp-content/uploads/2021/10/TentRevival.jpg
ORGANIZER;CN="Deeda Coffey":MAILTO:miracleinc@aol.com
END:VEVENT
BEGIN:VEVENT
DTSTART;TZID=UTC:20211105T180000
DTEND;TZID=UTC:20211105T220000
DTSTAMP:20260423T150500
CREATED:20211101T005542Z
LAST-MODIFIED:20211102T031855Z
UID:8216-1636135200-1636149600@hiddenremnant.org
SUMMARY:Tent Revival
DESCRIPTION:[vc_row][vc_column]2021[vc_custom_heading text=”Healing Tent Revival” font_container=”tag:h2|text_align:left|color:%232c358d” use_theme_fonts=”yes” css_animation=”fadeInDown”][vc_column_text] \nNovember 4\, 5 & 6 – 6PM Nightly\nThree Nights of the presence and glory of Jesus Christ–come expecting!\n[/vc_column_text][vc_column_text] \nPreacher: Ella Onakoya | Evangelist & Prophetic Watchman\nWorship Minister: Rev. Dionne Hough\nDance Minister: Marney L Wooldridge  |  Leading A Warrior Stance\, (AWS)\n\nFor more info contact\, Deeda Coffey:\n704-996-0232  /  miracleinc@aol.com\n[/vc_column_text]	\n		\n								\n							\n								\n								Facebook\n							\n						\n				\n	\n[/vc_column][/vc_row][vc_row][vc_column width=”1/3″]\n	\n				\n					\n		\n					\n			\n		\n				Evangelist & Prophetic Watchman\n				Ella Onakoya\n	\n	\n[vc_column_text]Ella Onakoya is the founder of Harvest of the Nations. She is an international speaker\, a revivalist and a Prophetic Watchman. Her ministry is followed with powerful moves of the Holy Spirit with healings\, salvations\, signs and wonders. For further information about her ministry please visit www.harvestofthenations.com[/vc_column_text][/vc_column][vc_column width=”1/3″]\n	\n				\n					\n		\n					\n			\n		\n				Worship Leader\n				Dionne Hough\n	\n	\n[vc_column_text]Dionne Hough is Minister of Music and an associate pastor at Sweet Home Baptist Church in Camden\, SC. She is also the president and a founding member of the nonprofit organization\, Christian Musicians’ Guild\, Inc. whose mission is to “glorify God and unite the community through music.”[/vc_column_text][/vc_column][vc_column width=”1/3″]\n	\n				\n					\n		\n					\n			\n		\n				Dance Ministry\n				Marney L Wooldridge\n	\n	\n[vc_column_text]Marney L. Wooldridge has been called by God into Kingdom leadershipwhile operating in the office of Prophet\, Pastor\, and Teacher in the spiritual realm. She is the founder and CEO of A Warrior’s Stance (AWS)\, a Christian community outreach troupe and is the leader of Hidden Remnant.[/vc_column_text][/vc_column][/vc_row]
URL:https://hiddenremnant.org/event/healing-tent-revival-2/
LOCATION:THE FIELD @ MCISAAC FARM\, Horton Rollins Road • (The FIELD between 1662 & 1544)\, Kershaw\, SC\, United States
CATEGORIES:Special Event
ATTACH;FMTTYPE=image/jpeg:https://hiddenremnant.org/wp-content/uploads/2021/10/TentRevival.jpg
ORGANIZER;CN="Deeda Coffey":MAILTO:miracleinc@aol.com
END:VEVENT
BEGIN:VEVENT
DTSTART;TZID=UTC:20211104T180000
DTEND;TZID=UTC:20211104T220000
DTSTAMP:20260423T150500
CREATED:20211030T224914Z
LAST-MODIFIED:20211102T032005Z
UID:8161-1636048800-1636063200@hiddenremnant.org
SUMMARY:Tent Revival
DESCRIPTION:[vc_row][vc_column]2021[vc_custom_heading text=”Healing Tent Revival” font_container=”tag:h2|text_align:left|color:%232c358d” use_theme_fonts=”yes” css_animation=”fadeInDown”][vc_column_text] \nNovember 4\, 5 & 6 – 6PM Nightly\nThree Nights of the presence and glory of Jesus Christ–come expecting!\n[/vc_column_text][vc_column_text] \nPreacher: Ella Onakoya | Evangelist & Prophetic Watchman\nWorship Minister: Rev. Dionne Hough\nDance Minister: Marney L Wooldridge  |  Leading A Warrior Stance\, (AWS)\n\nFor more info contact\, Deeda Coffey:\n704-996-0232  /  miracleinc@aol.com\n[/vc_column_text]	\n		\n								\n							\n								\n								Facebook\n							\n						\n				\n	\n[/vc_column][/vc_row][vc_row][vc_column width=”1/3″]\n	\n				\n					\n		\n					\n			\n		\n				Evangelist & Prophetic Watchman\n				Ella Onakoya\n	\n	\n[vc_column_text]Ella Onakoya is the founder of Harvest of the Nations. She is an international speaker\, a revivalist and a Prophetic Watchman. Her ministry is followed with powerful moves of the Holy Spirit with healings\, salvations\, signs and wonders. For further information about her ministry please visit www.harvestofthenations.com[/vc_column_text][/vc_column][vc_column width=”1/3″]\n	\n				\n					\n		\n					\n			\n		\n				Worship Leader\n				Dionne Hough\n	\n	\n[vc_column_text]Dionne Hough is Minister of Music and an associate pastor at Sweet Home Baptist Church in Camden\, SC. She is also the president and a founding member of the nonprofit organization\, Christian Musicians’ Guild\, Inc. whose mission is to “glorify God and unite the community through music.”[/vc_column_text][/vc_column][vc_column width=”1/3″]\n	\n				\n					\n		\n					\n			\n		\n				Dance Ministry\n				Marney L Wooldridge\n	\n	\n[vc_column_text]Marney L. Wooldridge has been called by God into Kingdom leadershipwhile operating in the office of Prophet\, Pastor\, and Teacher in the spiritual realm. She is the founder and CEO of A Warrior’s Stance (AWS)\, a Christian community outreach troupe and is the leader of Hidden Remnant.[/vc_column_text][/vc_column][/vc_row]
URL:https://hiddenremnant.org/event/healing-tent-revival/
LOCATION:THE FIELD @ MCISAAC FARM\, Horton Rollins Road • (The FIELD between 1662 & 1544)\, Kershaw\, SC\, United States
CATEGORIES:Special Event
ATTACH;FMTTYPE=image/jpeg:https://hiddenremnant.org/wp-content/uploads/2021/10/TentRevival.jpg
ORGANIZER;CN="Deeda Coffey":MAILTO:miracleinc@aol.com
END:VEVENT
BEGIN:VEVENT
DTSTART;TZID=UTC:20210614T171500
DTEND;TZID=UTC:20210614T200000
DTSTAMP:20260423T150500
CREATED:20210605T043613Z
LAST-MODIFIED:20211031T221927Z
UID:7838-1623690900-1623700800@hiddenremnant.org
SUMMARY:Prayer & Worship
DESCRIPTION:Our weekly gathering. All are welcome.
URL:https://hiddenremnant.org/event/prayer-worship-2/
LOCATION:United Way of Kershaw\, 110 E. Dekalb St. #1\, Camden\, SC\, United States
CATEGORIES:Prayer/Worship
ATTACH;FMTTYPE=image/jpeg:https://hiddenremnant.org/wp-content/uploads/2021/06/HR_section_prayerHands.jpg
ORGANIZER;CN="Marney L. Wooldridge":MAILTO:marneylwooldridge@yahoo.com
END:VEVENT
BEGIN:VEVENT
DTSTART;TZID=America/New_York:20210607T171500
DTEND;TZID=America/New_York:20210607T200000
DTSTAMP:20260423T150500
CREATED:20210605T015421Z
LAST-MODIFIED:20210609T015652Z
UID:7814-1623086100-1623096000@hiddenremnant.org
SUMMARY:Prayer & Worship
DESCRIPTION:Our weekly gathering. All are welcome.
URL:https://hiddenremnant.org/event/prayer-worship/
LOCATION:United Way of Kershaw\, 110 E. Dekalb St. #1\, Camden\, SC\, United States
CATEGORIES:Prayer/Worship
ATTACH;FMTTYPE=image/jpeg:https://hiddenremnant.org/wp-content/uploads/2021/06/HR_section_prayerHands.jpg
ORGANIZER;CN="Marney L. Wooldridge":MAILTO:marneylwooldridge@yahoo.com
END:VEVENT
BEGIN:VEVENT
DTSTART;TZID=UTC:20210410T100000
DTEND;TZID=UTC:20210410T170000
DTSTAMP:20260423T150500
CREATED:20210607T010853Z
LAST-MODIFIED:20211031T222145Z
UID:7973-1618048800-1618074000@hiddenremnant.org
SUMMARY:An Ol' Fashioned Tent Gathering
DESCRIPTION:Hidden Remnant invites you to come out for an anointed time of worship\, preaching\, teaching and prophetic release as the Lord sees fit. \n\nWorship Flags & Dance with AWS\nWorship & Speakers each Service\nSpecial Guests: Jackie Brown & Janice Marie Castillo with their team\, American Sign Language (ASL) for the deaf.
URL:https://hiddenremnant.org/event/an-ol-fashioned-tent-gathering/
LOCATION:Location:\, 237 Clearwater Lake Rd\, Camden\, SC\, 29020\, United States
CATEGORIES:Outreach
ATTACH;FMTTYPE=image/jpeg:https://hiddenremnant.org/wp-content/uploads/2021/06/TentEventCover.jpg
ORGANIZER;CN="Marney L. Wooldridge":MAILTO:marneylwooldridge@yahoo.com
END:VEVENT
BEGIN:VEVENT
DTSTART;TZID=UTC:20210409T190000
DTEND;TZID=UTC:20210409T220000
DTSTAMP:20260423T150500
CREATED:20210607T010724Z
LAST-MODIFIED:20211031T222212Z
UID:7970-1617994800-1618005600@hiddenremnant.org
SUMMARY:An Ol' Fashioned Tent Gathering
DESCRIPTION:Hidden Remnant invites you to come out for an anointed time of worship\, preaching\, teaching and prophetic release as the Lord sees fit. \n\nWorship Flags & Dance with AWS\nWorship & Speakers each Service\nSpecial Guests: Jackie Brown & Janice Marie Castillo with their team\, American Sign Language (ASL) for the deaf.
URL:https://hiddenremnant.org/event/tent-gathering/
LOCATION:Location:\, 237 Clearwater Lake Rd\, Camden\, SC\, 29020\, United States
CATEGORIES:Outreach
ATTACH;FMTTYPE=image/jpeg:https://hiddenremnant.org/wp-content/uploads/2021/06/TentEventCover.jpg
ORGANIZER;CN="Marney L. Wooldridge":MAILTO:marneylwooldridge@yahoo.com
END:VEVENT
END:VCALENDAR